BEGIN:VCALENDAR
VERSION:2.0
PRODID:spatie/icalendar-generator
NAME:Pablo Held Trio &amp\; Alexandra Ridout
X-WR-CALNAME:Pablo Held Trio &amp\; Alexandra Ridout
BEGIN:VTIMEZONE
TZID:Z
BEGIN:STANDARD
DTSTART:20250809T180000
TZOFFSETFROM:+0000
TZOFFSETTO:+0000
END:STANDARD
END:VTIMEZONE
BEGIN:VTIMEZONE
TZID:UTC
BEGIN:STANDARD
DTSTART:20250729T115804
TZOFFSETFROM:+0000
TZOFFSETTO:+0000
END:STANDARD
END:VTIMEZONE
BEGIN:VEVENT
UID:69ecac4c0f26e
DTSTAMP:20260425T115804Z
SUMMARY:Pablo Held Trio &amp\; Alexandra Ridout
LOCATION:Jazz-Schmiede Düsseldorf\, Himmelgeister Str. 107e\, 40225 Düsse
 ldorf
IMAGE;VALUE=URI;FMTTYPE=text/svg+xml;DISPLAY=BADGE:https://www.jazz-schmied
 e.de/site/templates/static/img/jazz-schmiede-blue.svg
DTSTART;TZID=Z:20260506T180000
DTEND;TZID=Z:20260506T200000
GEO:51.19851394965495927635856787674129009246826171875;6.780851460699387267
 53889568499289453029632568359375
X-APPLE-STRUCTURED-LOCATION;VALUE=URI;X-ADDRESS=Jazz-Schmiede Düsseldorf\,
  Himmelgeister Str. 107e\, 40225 Düsseldorf;X-APPLE-RADIUS=72;X-TITLE=Jaz
 z-Schmiede Düsseldorf:geo:51.1985139497,6.7808514607
URL:https://www.jazz-schmiede.de/veranstaltungen/2026/05/pablo-held-trio-al
 exandra-ridout/
END:VEVENT
END:VCALENDAR