BEGIN:VCALENDAR
VERSION:2.0
PRODID:spatie/icalendar-generator
NAME:Gipfeltreffen der akustischen Gitarre feat Francesco Buzzuro\, Adam Pa
 lma\, Andre Krengel\, Sophie Knops
X-WR-CALNAME:Gipfeltreffen der akustischen Gitarre feat Francesco Buzzuro\,
  Adam Palma\, Andre Krengel\, Sophie Knops
BEGIN:VTIMEZONE
TZID:Europe/Berlin
BEGIN:STANDARD
DTSTART:20181028T030000
TZOFFSETFROM:+0200
TZOFFSETTO:+0100
END:STANDARD
BEGIN:DAYLIGHT
DTSTART:20190331T010000
TZOFFSETFROM:+0100
TZOFFSETTO:+0200
END:DAYLIGHT
END:VTIMEZONE
BEGIN:VTIMEZONE
TZID:UTC
BEGIN:STANDARD
DTSTART:20250723T161214
TZOFFSETFROM:+0000
TZOFFSETTO:+0000
END:STANDARD
END:VTIMEZONE
BEGIN:VEVENT
UID:69e4fedecea78
DTSTAMP:20260419T161214Z
SUMMARY:Gipfeltreffen der akustischen Gitarre feat Francesco Buzzuro\, Adam
  Palma\, Andre Krengel\, Sophie Knops
LOCATION:Jazz-Schmiede Düsseldorf\, Himmelgeister Str. 107e\, 40225 Düsse
 ldorf
IMAGE;VALUE=URI;FMTTYPE=text/svg+xml;DISPLAY=BADGE:https://www.jazz-schmied
 e.de/site/templates/static/img/jazz-schmiede-blue.svg
DTSTART;TZID=Europe/Berlin:20190302T203000
DTEND;TZID=Europe/Berlin:20190302T223000
GEO:51.19851394965495927635856787674129009246826171875;6.780851460699387267
 53889568499289453029632568359375
X-APPLE-STRUCTURED-LOCATION;VALUE=URI;X-ADDRESS=Jazz-Schmiede Düsseldorf\,
  Himmelgeister Str. 107e\, 40225 Düsseldorf;X-APPLE-RADIUS=72;X-TITLE=Jaz
 z-Schmiede Düsseldorf:geo:51.1985139497,6.7808514607
URL:https://www.jazz-schmiede.de/veranstaltungen/2019/03/gipfeltreffen-der-
 akustischen-gitarre-feat-francesco-buzzuro-adam-palma-andre-krengel-sophie
 -knops/
END:VEVENT
END:VCALENDAR