BEGIN:VCALENDAR
VERSION:2.0
PRODID:spatie/icalendar-generator
NAME:Mauravann (Mauritius) Ravanne und Sega-Rhythmen aus dem Indischen Ozea
 n
X-WR-CALNAME:Mauravann (Mauritius) Ravanne und Sega-Rhythmen aus dem Indisc
 hen Ozean
BEGIN:VTIMEZONE
TZID:Z
BEGIN:STANDARD
DTSTART:20150905T183000
TZOFFSETFROM:+0000
TZOFFSETTO:+0000
END:STANDARD
END:VTIMEZONE
BEGIN:VTIMEZONE
TZID:UTC
BEGIN:STANDARD
DTSTART:20250727T132008
TZOFFSETFROM:+0000
TZOFFSETTO:+0000
END:STANDARD
END:VTIMEZONE
BEGIN:VEVENT
UID:69ea1c886bbb2
DTSTAMP:20260423T132008Z
SUMMARY:Mauravann (Mauritius) Ravanne und Sega-Rhythmen aus dem Indischen O
 zean
LOCATION:Jazz-Schmiede Düsseldorf\, Himmelgeister Str. 107e\, 40225 Düsse
 ldorf
IMAGE;VALUE=URI;FMTTYPE=text/svg+xml;DISPLAY=BADGE:https://www.jazz-schmied
 e.de/site/templates/static/img/jazz-schmiede-blue.svg
DTSTART;TZID=Z:20160601T183000
DTEND;TZID=Z:20160601T203000
GEO:51.19851394965495927635856787674129009246826171875;6.780851460699387267
 53889568499289453029632568359375
X-APPLE-STRUCTURED-LOCATION;VALUE=URI;X-ADDRESS=Jazz-Schmiede Düsseldorf\,
  Himmelgeister Str. 107e\, 40225 Düsseldorf;X-APPLE-RADIUS=72;X-TITLE=Jaz
 z-Schmiede Düsseldorf:geo:51.1985139497,6.7808514607
URL:https://www.jazz-schmiede.de/veranstaltungen/2016/06/mauravann--mauriti
 us--ravanne-und-sega-rhythmen-aus-dem-indischen-ozean-1/
END:VEVENT
END:VCALENDAR