BEGIN:VCALENDAR
VERSION:2.0
PRODID:spatie/icalendar-generator
NAME:Festival New Counterpoints – Sounds\, Spaces\, exploring the differe
 nces
X-WR-CALNAME:Festival New Counterpoints – Sounds\, Spaces\, exploring the
  differences
BEGIN:VTIMEZONE
TZID:Europe/Berlin
BEGIN:DAYLIGHT
DTSTART:20150329T010000
TZOFFSETFROM:+0100
TZOFFSETTO:+0200
END:DAYLIGHT
BEGIN:STANDARD
DTSTART:20151025T030000
TZOFFSETFROM:+0200
TZOFFSETTO:+0100
END:STANDARD
BEGIN:DAYLIGHT
DTSTART:20160327T010000
TZOFFSETFROM:+0100
TZOFFSETTO:+0200
END:DAYLIGHT
END:VTIMEZONE
BEGIN:VTIMEZONE
TZID:UTC
BEGIN:STANDARD
DTSTART:20250726T223250
TZOFFSETFROM:+0000
TZOFFSETTO:+0000
END:STANDARD
END:VTIMEZONE
BEGIN:VEVENT
UID:69e94c92e7ea3
DTSTAMP:20260422T223250Z
SUMMARY:Festival New Counterpoints – Sounds\, Spaces\, exploring the diff
 erences
LOCATION:Jazz-Schmiede Düsseldorf\, Himmelgeister Str. 107e\, 40225 Düsse
 ldorf
IMAGE;VALUE=URI;FMTTYPE=text/svg+xml;DISPLAY=BADGE:https://www.jazz-schmied
 e.de/site/templates/static/img/jazz-schmiede-blue.svg
DTSTART;TZID=Europe/Berlin:20151129T180000
DTEND;TZID=Europe/Berlin:20151129T200000
GEO:51.19851394965495927635856787674129009246826171875;6.780851460699387267
 53889568499289453029632568359375
X-APPLE-STRUCTURED-LOCATION;VALUE=URI;X-ADDRESS=Jazz-Schmiede Düsseldorf\,
  Himmelgeister Str. 107e\, 40225 Düsseldorf;X-APPLE-RADIUS=72;X-TITLE=Jaz
 z-Schmiede Düsseldorf:geo:51.1985139497,6.7808514607
URL:https://www.jazz-schmiede.de/veranstaltungen/2015/11/festival-new-count
 erpoints--sounds--spaces--exploring-the-differences-1/
END:VEVENT
END:VCALENDAR