BEGIN:VCALENDAR
VERSION:2.0
PRODID:spatie/icalendar-generator
NAME:„Music meets Magic“ mit „Pacific Daylight“ feat. Katrin Walter
 \, Thorsten Happel und Sven Heubes
X-WR-CALNAME:„Music meets Magic“ mit „Pacific Daylight“ feat. Katri
 n Walter\, Thorsten Happel und Sven Heubes
BEGIN:VTIMEZONE
TZID:Europe/Berlin
BEGIN:DAYLIGHT
DTSTART:20100328T010000
TZOFFSETFROM:+0100
TZOFFSETTO:+0200
END:DAYLIGHT
BEGIN:STANDARD
DTSTART:20101031T030000
TZOFFSETFROM:+0200
TZOFFSETTO:+0100
END:STANDARD
BEGIN:DAYLIGHT
DTSTART:20110327T010000
TZOFFSETFROM:+0100
TZOFFSETTO:+0200
END:DAYLIGHT
END:VTIMEZONE
BEGIN:VTIMEZONE
TZID:UTC
BEGIN:STANDARD
DTSTART:20250727T024853
TZOFFSETFROM:+0000
TZOFFSETTO:+0000
END:STANDARD
END:VTIMEZONE
BEGIN:VEVENT
UID:69e988956a08a
DTSTAMP:20260423T024853Z
SUMMARY:„Music meets Magic“ mit „Pacific Daylight“ feat. Katrin Wal
 ter\, Thorsten Happel und Sven Heubes
LOCATION:Jazz-Schmiede Düsseldorf\, Himmelgeister Str. 107e\, 40225 Düsse
 ldorf
IMAGE;VALUE=URI;FMTTYPE=text/svg+xml;DISPLAY=BADGE:https://www.jazz-schmied
 e.de/site/templates/static/img/jazz-schmiede-blue.svg
DTSTART;TZID=Europe/Berlin:20101030T200000
DTEND;TZID=Europe/Berlin:20101030T220000
GEO:51.19851394965495927635856787674129009246826171875;6.780851460699387267
 53889568499289453029632568359375
X-APPLE-STRUCTURED-LOCATION;VALUE=URI;X-ADDRESS=Jazz-Schmiede Düsseldorf\,
  Himmelgeister Str. 107e\, 40225 Düsseldorf;X-APPLE-RADIUS=72;X-TITLE=Jaz
 z-Schmiede Düsseldorf:geo:51.1985139497,6.7808514607
URL:https://www.jazz-schmiede.de/en/events/2010/10/music-meets-magic-mit-pa
 cific-daylight-feat.-katrin-walter--thorsten-happel-und-sven-heubes/
END:VEVENT
END:VCALENDAR