BEGIN:VCALENDAR
VERSION:2.0
PRODID:spatie/icalendar-generator
NAME:x-mas Jazz
X-WR-CALNAME:x-mas Jazz
BEGIN:VTIMEZONE
TZID:Z
BEGIN:STANDARD
DTSTART:20030317T193000
TZOFFSETFROM:+0000
TZOFFSETTO:+0000
END:STANDARD
END:VTIMEZONE
BEGIN:VTIMEZONE
TZID:UTC
BEGIN:STANDARD
DTSTART:20250726T013037
TZOFFSETFROM:+0000
TZOFFSETTO:+0000
END:STANDARD
END:VTIMEZONE
BEGIN:VEVENT
UID:69e824bd41846
DTSTAMP:20260422T013037Z
SUMMARY:x-mas Jazz
LOCATION:Jazz-Schmiede Düsseldorf\, Himmelgeister Str. 107e\, 40225 Düsse
 ldorf
IMAGE;VALUE=URI;FMTTYPE=text/svg+xml;DISPLAY=BADGE:https://www.jazz-schmied
 e.de/site/templates/static/img/jazz-schmiede-blue.svg
DTSTART;TZID=Z:20031212T193000
DTEND;TZID=Z:20031212T213000
GEO:51.19851394965495927635856787674129009246826171875;6.780851460699387267
 53889568499289453029632568359375
X-APPLE-STRUCTURED-LOCATION;VALUE=URI;X-ADDRESS=Jazz-Schmiede Düsseldorf\,
  Himmelgeister Str. 107e\, 40225 Düsseldorf;X-APPLE-RADIUS=72;X-TITLE=Jaz
 z-Schmiede Düsseldorf:geo:51.1985139497,6.7808514607
URL:https://www.jazz-schmiede.de/einfach/veranstaltungen/2003/12/x-mas-jazz
 /
END:VEVENT
END:VCALENDAR